BEGIN:VCALENDAR
VERSION:2.0
PRODID:-//The Official Cabin Crew Academy Site - ECPv6.15.20//NONSGML v1.0//EN
CALSCALE:GREGORIAN
METHOD:PUBLISH
X-ORIGINAL-URL:https://training4successacademy.net
X-WR-CALDESC:Events for The Official Cabin Crew Academy Site
REFRESH-INTERVAL;VALUE=DURATION:PT1H
X-Robots-Tag:noindex
X-PUBLISHED-TTL:PT1H
BEGIN:VTIMEZONE
TZID:Africa/Johannesburg
BEGIN:STANDARD
TZOFFSETFROM:+0200
TZOFFSETTO:+0200
TZNAME:SAST
DTSTART:20240101T000000
END:STANDARD
END:VTIMEZONE
BEGIN:VEVENT
DTSTART;VALUE=DATE:20251001
DTEND;VALUE=DATE:20251002
DTSTAMP:20260426T063051
CREATED:20250423T091342Z
LAST-MODIFIED:20250423T091342Z
UID:16238-1759276800-1759363199@training4successacademy.net
SUMMARY:CABIN CREW AIR
DESCRIPTION:Admission Requirements\n\n\n\n\n\n\n\nGrade 12 or equivalent / Fluency in English (An English competency test needs to be taken upon registration of the course).\n18 years old by the time you write your final SA-CAA exam\nAble to swim move unaided in water with a life jacket\nBe an able-bodied person with excellent general health.\n\n  \n\n\n\n\n\n\nCourse Duration\n\n\n\n\n\n\n\n8 Weeks\nMondays – Fridays 8am – 4pm (may vary)\nIntakes:  Approximately every 2 months of the year (January to October)\n\n  \n\n\n\n\n\n\nKey Topics\n\n\n\n\n\n\n\nSafety and Emergency procedures\nFire fighting\nAviation Medicine\nDangerous Goods\nBoeing 737\n\n  \n\n\n\n\n\n\nCareer Choices\n\n\n\n\n\n\n\nAirlines (Cabin Crew)\nAirports\nLuxury Bus\nLuxury Trains\nCamper hire (Ground crew)\n\n  \n\n\n\n\n\n\nWhat To Expect For Your Final Exam \n\n\n\n\n\n\n\nExam Method: Classroom exam at the SA-CAA \nExam Format: Multiple Choice questions. No Textbooks are permitted\nNumber of questions: 100\nTime Allowance: One hour\nNumber of exam attempts: 2\n\n  \n\n\n\n\n\n\nCourse Qualifications\n\n\n\n\n\n\n\nInternational Cabin Crew License\nFirefighting\nAviation Medicine\nDangerous goods\nBoeing 737 certificates
URL:https://training4successacademy.net/event/cabin-crew-for-air/2025-10-01/
LOCATION:Cabin Crew Academy\, 179 Lauriston Rd\, Norton's Home Estates\, Benoni\, Gauteng\, 1509\, South Africa
CATEGORIES:Cabin Crew (Air) Training
ATTACH;FMTTYPE=image/jpeg:https://training4successacademy.net/wp-content/uploads/2023/10/Air-Ground-.jpg
END:VEVENT
BEGIN:VEVENT
DTSTART;VALUE=DATE:20251001
DTEND;VALUE=DATE:20251002
DTSTAMP:20260426T063051
CREATED:20250429T081152Z
LAST-MODIFIED:20250429T081152Z
UID:16232-1759276800-1759363199@training4successacademy.net
SUMMARY:PLANE SAILING (Sea & Air)
DESCRIPTION:Live The Adventure With Cabin Crew Academy\n\nWant to keep your options open and explore cabin crew careers in both sea and air?  Then this is the ideal course for you! \n\n  \n\n\nAdmission Requirements\n\n\n\n\n\n\n\nGrade 12 or equivalent / Fluency in English (An English competency test needs to be taken upon registration of the course).\n18 years old by the time you write your final SA-CAA exam\nAble to swim and move unaided in water with a life jacket\nBe an able-bodied person with excellent general health.\n\n  \n\n\n\n\n\n\nCourse Duration\n\n\n\n\n\n\n\n11 Weeks\nMondays – Fridays 9am – 4pm\nTraining is done in Gauteng as well as Durban\nIntakes:  Approximately every 12 weeks of the year (January to November)\n\n  \n\n\n\n\n\n\nKey Topics\n\n\n\n\n\n\n\nSafety and Emergency Procedures\nFire fighting\nAviation Medicine\nDangerous Goods\nBoeing 737\n\n  \n\n\n\n\n\n\nCareer Choices\n\n\n\n\n\n\n\nAirlines (Cabin Crew)\nCruise lines\nAirports\nLuxury Bus\nLuxury Trains\nCamper hire (Ground crew)\n\n  \n\n\n\n\n\n\nWhat To Expect For Your Final Exam \n\n\n\n\n\n\n\nExam Method: Classroom exam at the SA-CAA and SAMSA \nExam Format: Multiple-choice questions. No Textbooks are permitted\nNumber of questions: 100\nTime Allowance: One hour\nNumber of exam attempts: 2\n\n  \n\n\n\n\n\n\nCourse Qualifications\n\n\n\n\n\n\n\nInternational Cabin Crew License :\nFirefighting / Aviation Medicine\nDangerous goods / Boeing 737 certificates\nInternational STCW license:\nPersonal survival techniques / Firefighting / Elementary first aid\nPersonal safety and social responsibilities\nSecurity awareness / Crisis management\, and human behaviour\nCrowd management and passenger safety
URL:https://training4successacademy.net/event/plane-sailing-sea-air/2025-10-01/
LOCATION:Cabin Crew Academy\, 179 Lauriston Rd\, Norton's Home Estates\, Benoni\, Gauteng\, 1509\, South Africa
CATEGORIES:Cabin Crew (Air) Training,Cabin Crew (Sea) Training
ATTACH;FMTTYPE=image/jpeg:https://training4successacademy.net/wp-content/uploads/2023/10/Plane-Sailing.jpg
ORGANIZER;CN="Cabin Crew Academy":MAILTO:admin@cabincrewacademy.co.za
END:VEVENT
BEGIN:VEVENT
DTSTART;VALUE=DATE:20251001
DTEND;VALUE=DATE:20251002
DTSTAMP:20260426T063051
CREATED:20250506T072352Z
LAST-MODIFIED:20250506T072352Z
UID:16216-1759276800-1759363199@training4successacademy.net
SUMMARY:Advanced Cabin Crew
DESCRIPTION:Live The Adventure With Cabin Crew Academy\n\nDream of flying the country or the world for a living?  The Ground Staff & Cabin Crew for Air course will equip you to be a stand-out Airline Employee. \n\n  \n\n\n\n\n\nAdvanced Cabin Crew Course Details\n  \n\n\n\n\n\n\n\n\n\n\nAdmission Requirements\n\n\n\n\n\n\n\nGrade 12 or equivalent / Fluency in English (An English competency test needs to be taken upon registration of the course).\n18 years old by the time you write your final SA-CAA exam\nAble to swim move unaided in water with a life jacket\nBe an able-bodied person with excellent general health.\n\n  \n\n\n\n\n\n\nCourse Duration\n\n\n\n\n\n\n\n8 Weeks In Class\, Plus 48 hrs Distance Learning\nMondays – Fridays 9am – 4pm\nDistance Learning –  Ground Services course requires approximately 45\nhours of study to be completed in 12 months from the\npurchase date (enrolment validity).\nIntakes:  Approximately every 8 weeks of the year (January to November)\n\n  \n\n\n\n\n\n\nKey Topics\n\n\n\n\n\n\n\nSafety and Emergency procedures\nFire fighting\nAviation Medicine\nDangerous Goods\nIntroduction to airport and airline operations\nComputer Reservations (CRS) and Departure Control Systems (DCS) functions\nPassenger and Baggage check-in procedures (airport and off-site)\nConditions of passenger and baggage carriage\, boarding procedures\, and flight close-out messaging\nDangerous Goods regulations awareness for\npassenger service agents\nManaging passenger interactions\nAviation security procedures for passenger and baggage transport\nEnhanced passenger facilitation\, latest innovations\, and career opportunities\nCheck-in Agent collection\nGate Agent collection\nExplain the system architecture of the Amadeus Altéa\nSuite including Departure Control-Customer Management\n\n\n\n\n\n\n\n\nCareer Choices\n\n\n\n\n\n\n\nAirlines (Cabin Crew)\nCruise lines\nAirports\nLuxury Bus\nLuxury Trains\nCamper hire (Ground crew)\n\n  \n\n\n\n\n\n\nWhat To Expect For Your Final Exam \n\n\n\n\n\n\n\nExam Method: Classroom exam at the SA-CAA \nExam Format: Multiple Choice questions. No Textbooks are permitted\nNumber of questions: 100\nTime Allowance: One hour\nNumber of exam attempts: 2\nExam Method: Online exam with remote supervision\nExam Format: Multiple Choice questions\, Closed Textbook\nNumber of questions: 100\nTime Allowance: 3 hours\nPassing Grade: 60% correct answers\nDistinction Grade: 90% correct answers\n\n  \n\n\n\n\n\n\nCourse Qualifications\n\n\n\n\n\n\n\nInternational Cabin Crew License\nFirefighting\nAviation Medicine\nDangerous goods\nBoeing 737 certificates\n\n\n\n\n\n\n\n\n  \n  \n 
URL:https://training4successacademy.net/event/advanced-cabin-crew/2025-10-01/
LOCATION:Cabin Crew Academy\, 179 Lauriston Rd\, Norton's Home Estates\, Benoni\, Gauteng\, 1509\, South Africa
CATEGORIES:Cabin Crew (Air) Training
ATTACH;FMTTYPE=image/jpeg:https://training4successacademy.net/wp-content/uploads/2023/10/Air-Ground-.jpg
ORGANIZER;CN="Cabin Crew Academy":MAILTO:admin@cabincrewacademy.co.za
END:VEVENT
END:VCALENDAR