BEGIN:VCALENDAR
VERSION:2.0
PRODID:-//The Official Cabin Crew Academy Site - ECPv6.15.20//NONSGML v1.0//EN
CALSCALE:GREGORIAN
METHOD:PUBLISH
X-ORIGINAL-URL:https://training4successacademy.net
X-WR-CALDESC:Events for The Official Cabin Crew Academy Site
REFRESH-INTERVAL;VALUE=DURATION:PT1H
X-Robots-Tag:noindex
X-PUBLISHED-TTL:PT1H
BEGIN:VTIMEZONE
TZID:Africa/Johannesburg
BEGIN:STANDARD
TZOFFSETFROM:+0200
TZOFFSETTO:+0200
TZNAME:SAST
DTSTART:20230101T000000
END:STANDARD
END:VTIMEZONE
BEGIN:VEVENT
DTSTART;VALUE=DATE:20240207
DTEND;VALUE=DATE:20240208
DTSTAMP:20260426T024800
CREATED:20231013T090555Z
LAST-MODIFIED:20241005T105123Z
UID:4368-1707264000-1707350399@training4successacademy.net
SUMMARY:FOUNDATION IN TRAVEL & TOURISM DISTANCE LEARNING
DESCRIPTION:FOUNDATION IN TRAVEL & TOURISM\nTravel and Tourism Course With Galileo.  \n\n\nAdmission Requirements\n\n\n\n\n\n\n\nGrade 12 or equivalent / Fluency in English\nLaptop: Google Chrome browser\, Javascript enabled\, Minimum screen resolution of 1024 X 768 pixels\,\nAcrobat Reader version 11 or above\, HTML-enabled e-mail client (to be able to read e-mails generated by the system)\n\n\n\n\n\n\n\nCourse Duration\n\n\n\n\n\n\n\nDistance: 6 months\nIntakes:  Anytime during the year.\n\n\n\n\n\n\n\nKey Topics\n\n\n\n\n\n\n\nThe travel and tourism industry and the working environment for travel professionals\nGeography and industry codes\nTravel documents and the airline passenger experience\nAir transport products and services\nRail\, hotel\, car rental\, cruise and tour products\nCustomer service principles\nAirfares and ticketing\nThe Galileo system functionality\n\n\n\n\n\n\n\nCareer Choices\n\n\n\n\n\n\n\nAirport / Travel Agency or Tour operator\nGround Staff or ticketing\nLuxury Bus/Luxury Trains/Camper and Car hire/Hotels and Lodges (Front desk and Reservations)\n\n\n\n\n\n\n\nWhat To Expect For Your Final Exam \n\n\n\n\n\n\n\nExam:  Online exam with remote supervision (OERS)\nExam Format: Multiple Choice questions\, Closed Textbook\nNumber of questions: 100\nExam months:  January / March / May / July / September / November\nTime Allowance: 3 hours\nPassing Grade: 60 correct answers\nDistinction Grade: 85 correct answers\nNumber of exam attempts: 2\n\n\n\n\n\n\nCourse Qualifications\n\n\n\n\n\n\nFoundation in Travel and Tourism with Galileo Diploma\n\n\n\n\n\n  \nCourse Pricing:\n\nRegistration Fee – (R3 165 Including VAT – Non-Refundable)\nIn classroom training: request quote\nDistance Learning: R18 975 including VAT\nCourse Deposit: R5000\n\n  \nPayment Plans Options:\nDistance Learning: R5000 Course Deposit. Remaining course fee will be divided into payments across 6 months – Totaling R18 975 including VAT \nIncluding In The Price: \n\nExam fees\ne-textbook\nGraduation\n\n  \nAdditional\n\nGraduation Gown Hire – R510.00
URL:https://training4successacademy.net/event/foundation-in-travel-tourism/
LOCATION:Cabin Crew Academy\, 179 Lauriston Rd\, Norton's Home Estates\, Benoni\, Gauteng\, 1509\, South Africa
CATEGORIES:Travel & Tourism Training
ATTACH;FMTTYPE=image/jpeg:https://training4successacademy.net/wp-content/uploads/2023/10/FOUNDATION-IN-TRAVEL-TOURISM.jpg
ORGANIZER;CN="Cabin Crew Academy":MAILTO:admin@cabincrewacademy.co.za
END:VEVENT
END:VCALENDAR